BEGIN:VCALENDAR
VERSION:2.0
PRODID:-//Althea SullyCole - ECPv6.15.3//NONSGML v1.0//EN
CALSCALE:GREGORIAN
METHOD:PUBLISH
X-WR-CALNAME:Althea SullyCole
X-ORIGINAL-URL:https://altheasullycole.com
X-WR-CALDESC:Events for Althea SullyCole
REFRESH-INTERVAL;VALUE=DURATION:PT1H
X-Robots-Tag:noindex
X-PUBLISHED-TTL:PT1H
BEGIN:VTIMEZONE
TZID:UTC
BEGIN:STANDARD
TZOFFSETFROM:+0000
TZOFFSETTO:+0000
TZNAME:UTC
DTSTART:20160101T000000
END:STANDARD
END:VTIMEZONE
BEGIN:VEVENT
DTSTART;TZID=UTC:20170506T200000
DTEND;TZID=UTC:20170506T220000
DTSTAMP:20260424T012443
CREATED:20170426T192837Z
LAST-MODIFIED:20250131T205347Z
UID:1150-1494100800-1494108000@altheasullycole.com
SUMMARY:Sesión Musical con Althea SullyCole
DESCRIPTION:Althea is thrilled to announce the first concert as part of an artist residency in Mexico City at Centro Horizontal!
URL:https://altheasullycole.com/show/sesion-musical-con-althea-sullycole/
LOCATION:Horizontal\, Colima 378\, Roma Norte\, Mexico City\, 06700\, Mexico
END:VEVENT
BEGIN:VEVENT
DTSTART;TZID=UTC:20170313T203000
DTEND;TZID=UTC:20170313T213000
DTSTAMP:20260424T012443
CREATED:20161202T194443Z
LAST-MODIFIED:20250131T205347Z
UID:1107-1489437000-1489440600@altheasullycole.com
SUMMARY:Solo Set @ Rockwood Music Hall\, Stage 3
DESCRIPTION:Althea is thrilled to announce that she will be performing again at Rockwood Music hall (stage 3) on November 28th at 7 pm! \n\n{image from performance at Rockwood on November 28th\, 2016} \nThe event will be held at Rockwood Music Hall –185 Orchard St\, New York\, NY 10002 \nDate: Monday\, March 13th\, 2016\nDoors open: 20:30 (8:30 pm)\nPrice: $10 \nMore information coming soon
URL:https://altheasullycole.com/show/solo-set-rockwood-music-hall-stage-3-2/
LOCATION:Rockwood Music Hall\, 185 Orchard St\, New York\, NY\, 10002\, United States
END:VEVENT
BEGIN:VEVENT
DTSTART;TZID=UTC:20170301T193000
DTEND;TZID=UTC:20170301T230000
DTSTAMP:20260424T012443
CREATED:20161102T152409Z
LAST-MODIFIED:20250131T205347Z
UID:1095-1488396600-1488409200@altheasullycole.com
SUMMARY:Solo Set @ Starry Starry Nights
DESCRIPTION:Althea is very excited to return to the Starry Starry Nights stage again in London in March! Here’s a shot from her last performance there: \n \nStarry Starry Nights is located at the The Star by Hackney Downs\, 35 Queensdown Road\, London\, United Kingdom E5 8NN \nDate: Wednesday March 1st\, 2017\nDoors open: 19:30 (7:30 pm)\nAdmission: £5\nhttps://www.facebook.com/starrystarrynightsofhackney/
URL:https://altheasullycole.com/show/solo-set-starry-starry-nights-2/
LOCATION:The Star by Hackney Downs\, 35 Queensdown Road\, London\, E5 8NN\, United Kingdom
END:VEVENT
BEGIN:VEVENT
DTSTART;TZID=UTC:20170226T140000
DTEND;TZID=UTC:20170226T170000
DTSTAMP:20260424T012443
CREATED:20170106T202418Z
LAST-MODIFIED:20250131T205347Z
UID:1128-1488117600-1488128400@altheasullycole.com
SUMMARY:Solo Performance @ Held at Hucks\, London
DESCRIPTION:Althea is thrilled to announce she will perform a solo set at Hucks Music Space on February 19th\, 2017! \n \nThis event will be held at: \nHucks\n81 Grove Road\,\nWalthamstow\nE17 9BU Lonson \nTime: Sunday\, Febraury 19th\, 2017; 2:00 pm
URL:https://altheasullycole.com/show/solo-performance-held-at-hucks-london/
LOCATION:Hucks\, 81 Grove Road\, London\, E17 9BU\, United Kingdom
END:VEVENT
BEGIN:VEVENT
DTSTART;TZID=UTC:20170221T200000
DTEND;TZID=UTC:20170221T203000
DTSTAMP:20260424T012443
CREATED:20170125T204012Z
LAST-MODIFIED:20250131T205347Z
UID:1142-1487707200-1487709000@altheasullycole.com
SUMMARY:Solo Set @ the Gallimaufry
DESCRIPTION:Althea is thrilled to announce her first ever kora performance in Bristol at the Gallimaufry on the 21st of February! \n \nThis event will be held at: \nThe Gallimaufry\n26/28\, The Promenade\, Gloucester Rd\, Bristol BS7 8AL \nTime: Sunday\, Febraury 21st\, 2017; 1:00 pm
URL:https://altheasullycole.com/show/solo-set-the-gallimaufry/
LOCATION:The Gallimaufry\, 26/28\, The Promenade\, Gloucester Rd\, Bristol\, BS7 8AL\, United Kingdom
END:VEVENT
BEGIN:VEVENT
DTSTART;TZID=UTC:20170219T130000
DTEND;TZID=UTC:20170219T150000
DTSTAMP:20260424T012443
CREATED:20170125T203353Z
LAST-MODIFIED:20250131T205347Z
UID:1139-1487509200-1487516400@altheasullycole.com
SUMMARY:Solo Set @ The Bell Inn
DESCRIPTION:Althea is thrilled to announce her upcoming performance at the Bell Inn\, the first of a series of solo performances in the U.K. \n \nThis event will be held at: \nThe Bell Inn\n103 Walcot St\, Bath BA1 5BW \nTime: Sunday\, Febraury 19th\, 2017; 1:00 pm
URL:https://altheasullycole.com/show/solo-set-the-bell-inn/
LOCATION:The Bell Inn\, 103 Walcot St\, Bath\, BA1 5BW\, United Kingdom
END:VEVENT
BEGIN:VEVENT
DTSTART;TZID=UTC:20170122T110000
DTEND;TZID=UTC:20170122T130000
DTSTAMP:20260424T012443
CREATED:20170106T201819Z
LAST-MODIFIED:20250131T205347Z
UID:1124-1485082800-1485090000@altheasullycole.com
SUMMARY:Prayer Rituals "The Quest for Inner Peace" in memory of Wanda Daley
DESCRIPTION:Althea is thrilled to announce that she will be performing alongside Joseph Daley in his Tuba Trio (with Scott Robinson and Warren Daley) and father Bill Cole in performance at Teatro Manzoni in Milan\, Italy on January 22nd\, 2017. \n\nThe event will be held at \nTeatro Manzoni\nVia Manzoni\, 42\, 20121 Milano\, Italie \nDate: Sunday\, January 22nd\, 2017\nTime: 11:00 am
URL:https://altheasullycole.com/show/prayer-rituals-the-quest-for-inner-peace-in-memory-of-wanda-daley/
LOCATION:Teatro Manzoni\, Via Manzoni\, 42\, Milano\, 20121\, Italy
END:VEVENT
BEGIN:VEVENT
DTSTART;TZID=UTC:20170116T190000
DTEND;TZID=UTC:20170116T200000
DTSTAMP:20260424T012443
CREATED:20161202T195936Z
LAST-MODIFIED:20250131T205347Z
UID:1109-1484593200-1484596800@altheasullycole.com
SUMMARY:Martin Luther King Day Workshop with Joseph Daley
DESCRIPTION:Althea is very much looking forward to performing alongside Joseph Daley and his wonderful ensemble (Warren Smith\, Scott Robinson and father Bill Cole) on Martin Luther King Day at Harlem Parlor Jazz Fest! \n\nThe event will be held at \nHarlem Parlor Jazz Fest\n27 Mount Morris Park West\nBetween west 122-123 street\nDate: Monday\, January 16th\, 2016\nTime: 7:00 – 8:00 pm
URL:https://altheasullycole.com/show/martin-luther-king-day-workshop-with-joseph-daley/
LOCATION:Harlem Parlor Jazz Fest\, 27 Mount Morris Park West\, New York\, NY\, United States
END:VEVENT
BEGIN:VEVENT
DTSTART;TZID=UTC:20161213T190000
DTEND;TZID=UTC:20161213T203000
DTSTAMP:20260424T012443
CREATED:20161102T151830Z
LAST-MODIFIED:20250131T205347Z
UID:1091-1481655600-1481661000@altheasullycole.com
SUMMARY:Solo Set @ Artistree
DESCRIPTION:Althea is thrilled to announced she will be performing at Artistree in South Pomfret\, Vermont this December. \n \nArtistree is located at 2095 Pomfret Road\, South Pomfret\, VT 05067. More Details forthcoming.
URL:https://altheasullycole.com/show/solo-set-artistree/
LOCATION:Artistree\, 2095 Pomfret Road\,  South Pomfret\, VT\, 05067\, United States
END:VEVENT
BEGIN:VEVENT
DTSTART;TZID=UTC:20161128T190000
DTEND;TZID=UTC:20161128T210000
DTSTAMP:20260424T012443
CREATED:20160829T230435Z
LAST-MODIFIED:20250131T205348Z
UID:1069-1480359600-1480366800@altheasullycole.com
SUMMARY:Solo set @ Rockwood Music Hall\, Stage 3
DESCRIPTION:Althea is thrilled to announce that she will be performing a solo set at Rockwood Music hall (stage 3) on November 28th at 7 pm! \n \nThe event will be held at Rockwood Music Hall –185 Orchard St\, New York\, NY 10002 \nDate: Monday\, November 28th\, 2016\nDoors open: 19:00 (7:00 pm)\nPrice: $10 \nMore information coming soon!
URL:https://altheasullycole.com/show/solo-set-rockwood-music-hall-stage-3/
LOCATION:Rockwood Music Hall\, 185 Orchard St\, New York\, NY\, 10002\, United States
END:VEVENT
BEGIN:VEVENT
DTSTART;TZID=UTC:20161117T200000
DTEND;TZID=UTC:20161117T230000
DTSTAMP:20260424T012443
CREATED:20160926T191105Z
LAST-MODIFIED:20250131T205348Z
UID:1087-1479412800-1479423600@altheasullycole.com
SUMMARY:Untempered Ensemble @ UVA
DESCRIPTION:Althea SullyCole is very pleased to announce she will be perform alongside the Untempered Ensemble at the University of Virginia on November 17th. \n \nDetails TBA.
URL:https://altheasullycole.com/show/untempered-ensemble-uva/
LOCATION:Distrito Federal
END:VEVENT
BEGIN:VEVENT
DTSTART;TZID=UTC:20161117T200000
DTEND;TZID=UTC:20161117T200000
DTSTAMP:20260424T012443
CREATED:20161110T032434Z
LAST-MODIFIED:20250131T205347Z
UID:1103-1479412800-1479412800@altheasullycole.com
SUMMARY:Untempered Ensemble Residency @ UVA
DESCRIPTION:Join Bill Cole & the Untempered Ensemble in performance during their residency at UVA featuring… \nBill Cole – digeridoo\, wooden flute\, Asian double reeds\nWarren Smith – multiple percussion\nJoseph Daley – tuba\, low brass\nRas Moshe Burnett – saxophone\, flute\nAlex Blake – bass\nLisette Santiago – African/Caribbean hand percussion\, Theremin\, vocal\nAlthea SullyCole – West African kora\, vocal \n \nTicket ($15 public; $5 students\, Jazz Society members and Heritage Center Board members) proceeds will benefit the Charlottesville Jazz Society\, African American Heritage Center and Arts Administration at UVA.
URL:https://altheasullycole.com/show/untempered-ensemble-residency-uva-2/
LOCATION:Jefferson School African American Heritage Center\, 233 4th St NW\, Charlottesville\, VA\, 22903\, United States
END:VEVENT
BEGIN:VEVENT
DTSTART;TZID=UTC:20161116T200000
DTEND;TZID=UTC:20161116T220000
DTSTAMP:20260424T012443
CREATED:20161110T032157Z
LAST-MODIFIED:20250131T205347Z
UID:1101-1479326400-1479333600@altheasullycole.com
SUMMARY:Untempered Ensemble Residency @ UVA
DESCRIPTION:Join Bill Cole & the Untempered Ensemble in performance during their residency at UVA featuring… \nBill Cole – digeridoo\, wooden flute\, Asian double reeds\nWarren Smith – multiple percussion\nJoseph Daley – tuba\, low brass\nRas Moshe Burnett – saxophone\, flute\nAlex Blake – bass\nLisette Santiago – African/Caribbean hand percussion\, Theremin\, vocal\nAlthea SullyCole – West African kora\, vocal \n \nTicket ($15 public; $5 students\, Jazz Society members and Heritage Center Board members) proceeds will benefit the Charlottesville Jazz Society\, African American Heritage Center and Arts Administration at UVA.
URL:https://altheasullycole.com/show/untempered-ensemble-residency-uva/
LOCATION:Thomas Jefferson Unitarian Church\, 717 Rugby Rd\, Charlottesville\, VA\, 22903\, United States
END:VEVENT
BEGIN:VEVENT
DTSTART;TZID=UTC:20161115T080000
DTEND;TZID=UTC:20161117T230000
DTSTAMP:20260424T012443
CREATED:20160926T190147Z
LAST-MODIFIED:20250131T205348Z
UID:1084-1479196800-1479423600@altheasullycole.com
SUMMARY:Untempered Ensemble Residency @ UVA
DESCRIPTION:Althea SullyCole is thrilled to announce that she will be taking residency with the Untempered Ensemble at the University of Virginia from November 15th – 17th alongside… \nBill Cole – digeridoo\, wooden flute\, Asian double reeds\nWarren Smith – multiple percussion\nJoseph Daley – tuba\, low brass\nRas Moshe Burnett – saxophone\, flute\nAlex Blake – bass\nLisette Santiago – African/Caribbean hand percussion\, Theremin\, vocal\nAlthea SullyCole – West African kora\, vocal \n \nThe residency will consist of visiting classrooms and conducting panels on creativity\, improvisation\, the oral tradition and more. The week will also include two performances: \nWednesday\, November 16th\, 8 pm @ @Thomas Jefferson Unitarian Church (717 Rugby Rd\, Charlottesville\, VA 22903) \nand Thursday\, November 17th\, 8 pm @ Jefferson School African American Heritage Center (233 4th St NW Charlottesville\, VA 22903) \n\nTicket proceeds will benefit the Charlottesville Jazz Society\, African American Heritage Center and Arts Administration at UVA.
URL:https://altheasullycole.com/show/residency-uva-with-the-untempered-ensemble/
LOCATION:Distrito Federal
END:VEVENT
BEGIN:VEVENT
DTSTART;TZID=UTC:20161019T193000
DTEND;TZID=UTC:20161019T220000
DTSTAMP:20260424T012443
CREATED:20160926T185059Z
LAST-MODIFIED:20250131T205348Z
UID:1081-1476905400-1476914400@altheasullycole.com
SUMMARY:Solo Set @ Starry Starry Nights
DESCRIPTION:Althea SullyCole will be closing her year of performances in London on the Starry Starry Nights stage in Hackney on October 19th. \n \nThe event will be held at Starry Starry Nights – 35 Queensdown Road\, London\, United Kingdom E5 8NN \nDate: Wednesday October 19th\, 2016\nDoors open: 19:30 (7:30 pm)\nAdmission: £5\nhttps://www.facebook.com/starrystarrynightsofhackney/
URL:https://altheasullycole.com/show/solo-set-starry-starry-nights/
LOCATION:The Star by Hackney Downs\, 35 Queensdown Road\, London\, E5 8NN\, United Kingdom
END:VEVENT
BEGIN:VEVENT
DTSTART;TZID=UTC:20161017T080000
DTEND;TZID=UTC:20161017T230000
DTSTAMP:20260424T012443
CREATED:20160926T184015Z
LAST-MODIFIED:20250131T205348Z
UID:1080-1476691200-1476745200@altheasullycole.com
SUMMARY:Solo Set @ Cabaret Futura
DESCRIPTION:Althea Sullyole is very excited to announce that she will be performing a solo set at Cabaret Futura on May 16th! *Please note that this will be only 10-15 minute set amidst many other performances \n \nThe event will be held at Paradise – 19 Kilburn Lane\, Kensal Rise\, London W10 4AE \nDate: Monday October 17th\, 2016\nDoors open: 20:00 (8:00 pm)\nAdmission: £10\nFind tickets here: http://www.richardstrange.com/events/cabaret-futura/
URL:https://altheasullycole.com/show/solo-set-cabaret-futura/
LOCATION:Paradise\, 19 Kilburn Lane\, Kensal Rise\, London\, W10 4AE\, United Kingdom
END:VEVENT
BEGIN:VEVENT
DTSTART;TZID=UTC:20160825T220000
DTEND;TZID=UTC:20160825T230000
DTSTAMP:20260424T012443
CREATED:20160711T143409Z
LAST-MODIFIED:20250131T205348Z
UID:1049-1472162400-1472166000@altheasullycole.com
SUMMARY:42 Strings @ BBC Proms Extra Lates\, Royal Albert Hall
DESCRIPTION:42 Strings is thrilled to announce they will be performing at Royal Albert Hall as part of BBC Proms Extra Lates in London on Thursday\, August 25th\, 2016.\n \n \nThe event will be held at Royal Albert Hall – Kensington Gore\, London SW7 2AP \nDate: Thursday August 25th\, 2016\nDoors open: 22:00 \nMore information coming soon!
URL:https://altheasullycole.com/show/42-strings-bbc-proms-extra-lates-royal-albert-hall/
LOCATION:Royal Albert Hall\, Kensington Gore\, London\, SW7 2AP\, United Kingdom
END:VEVENT
BEGIN:VEVENT
DTSTART;TZID=UTC:20160823T200000
DTEND;TZID=UTC:20160823T230000
DTSTAMP:20260424T012443
CREATED:20160614T203732Z
LAST-MODIFIED:20250131T205348Z
UID:1031-1471982400-1471993200@altheasullycole.com
SUMMARY:42 Strings @ Bedroom Bar
DESCRIPTION:42 Strings is honored to announce they will be performing atBedroom Bar in London on August 23rd\, 2016.\n \n \nThe event will be held at Bedroom Bar – 62-68 Rivington St\, London EC2A 3AY \nDate: Tuesday August 23rd\, 2016\nDoors open: 19:00 (7:00 pm) \nMore information coming soon!
URL:https://altheasullycole.com/show/42-strings-bedroom-bar-2/
LOCATION:Bedroom Bar\, 62-68 Rivington St\, London\, EC2A 3AY\, United Kingdom
END:VEVENT
BEGIN:VEVENT
DTSTART;VALUE=DATE:20160804
DTEND;VALUE=DATE:20160808
DTSTAMP:20260424T012443
CREATED:20160614T194725Z
LAST-MODIFIED:20250131T205348Z
UID:1025-1470268800-1470614399@altheasullycole.com
SUMMARY:42 Strings @ The Wilderness Festival
DESCRIPTION:42 Strings is elated to announce that they will be performing at multiple stages in the Wilderness Festival this summer! \n \nThe event will be held at the Wilderness Festival in Cornbury Park\, near Charlbury\, Oxfordshire\, England \nDates: August 4th – 7th\nAdmission: varies\n \nPlease visit the Wilderness Festival website for more details: https://www.wildernessfestival.com/programme/42-strings/?pillar_id=186309&location=43485
URL:https://altheasullycole.com/show/42-strings-the-wilderness-festival/
LOCATION:Cornbury Park\, Charlbury\, OX7 3EH\, United Kingdom
END:VEVENT
BEGIN:VEVENT
DTSTART;TZID=UTC:20160727T183000
DTEND;TZID=UTC:20160727T203000
DTSTAMP:20260424T012443
CREATED:20160706T022306Z
LAST-MODIFIED:20250131T205348Z
UID:1034-1469644200-1469651400@altheasullycole.com
SUMMARY:Solo Set @ the Presidential Drinks Reception\, School of Oriental and African Studies\, University of London
DESCRIPTION:Althea is honored to announce that she will perform a solo set at the Presidential Drinks Reception at the School of Oriental and African Studies at the University of London upon her return from a 3 week period in Dakar\, Senegal on Wednesday\, July 27th\, 2016.\n \n \nThe event will be held in the Brunei Gallery at the School of Oriental Studies (10 Thornhaugh Street\, London\, WC1H 0XG).
URL:https://altheasullycole.com/show/solo-set-the-presidential-drinks-reception-school-of-oriental-and-african-studies-university-of-london/
LOCATION:Brunei Gallery\, 10 Thornhaugh St\, London\, London\, WC1H OXG\, United Kingdom
END:VEVENT
BEGIN:VEVENT
DTSTART;TZID=UTC:20160701T130000
DTEND;TZID=UTC:20160701T140000
DTSTAMP:20260424T012443
CREATED:20160614T195854Z
LAST-MODIFIED:20250131T205348Z
UID:1028-1467378000-1467381600@altheasullycole.com
SUMMARY:42 Strings @ Southbank Centre
DESCRIPTION:42 Strings is thrilled to announce that we will be performing at the Southbank Centre on Friday\, July 1st (presented by A World In London)! \n \nThe event will be held at the Southbank Centre in the Central Bar of the Royal Festival Hall. \nDate: Friday\, July 1st\, 2016\nTime: 13:00-14:00 (1:00-2:00 pm)\nAdmission: FREE\n \nPlease visit the Southbank Centre website for more details: http://www.southbankcentre.co.uk/whatson/42-strings-1001736?dt=2016-07-01
URL:https://altheasullycole.com/show/42-strings-southbank-centre-2/
LOCATION:Southbank Centre\, Royal Festival Hall\, Central Bar\, Belvedere Rd\, London\, SE1 8XX\, United Kingdom
END:VEVENT
BEGIN:VEVENT
DTSTART;TZID=UTC:20160617T200000
DTEND;TZID=UTC:20160617T230000
DTSTAMP:20260424T012443
CREATED:20160413T144258Z
LAST-MODIFIED:20250131T205348Z
UID:986-1466193600-1466204400@altheasullycole.com
SUMMARY:42 Strings @ Cafe Cairo
DESCRIPTION:42 Strings is very excited to announce that they will be performing at Cafe Cairo on June 17th! \n\nThe event will be held at Cafe Cairo –88 Landor Road\, London\, SW9 9PE \nDate: Friday June 17th\, 2016\nDoors open: 20:30 (8:30 pm)\nAdmission: £8\n \nRSVP on the Facebook event page: https://www.facebook.com/events/1749144155325330/\nBuy tickets here: http://www.brownpapertickets.com/event/2562618
URL:https://altheasullycole.com/show/42-strings-cafe-cairo-2/
LOCATION:Cafe Cairo\, 88 Landor Road\, London\, SW9 9PE\, United Kingdom
END:VEVENT
BEGIN:VEVENT
DTSTART;TZID=UTC:20160614T130000
DTEND;TZID=UTC:20160614T140000
DTSTAMP:20260424T012443
CREATED:20160614T193937Z
LAST-MODIFIED:20250131T205348Z
UID:1022-1465909200-1465912800@altheasullycole.com
SUMMARY:42 Strings @ Southbank Centre
DESCRIPTION:42 Strings is thrilled to announce they will perform at the Southbank Centre (presented by A World in London) on Friday\, July 1st at 1 pm in the Royal Festival Hall Central Bar. \n \n\nThe event will be held at the Southbank Centre (Belvedere Rd\, London SE1 8XX) in the Central Bar of the Royal Festival Hall. \nDate: Friday\, July 1st\, 2016\nDoors open: 13:00 – 14:00 (1:00 – 2:00 pm)\nAdmission: FREE\n \nPlease visit the Southbank Centre‘s website for more information: http://www.southbankcentre.co.uk/whatson/42-strings-1001736?dt=2016-07-01
URL:https://altheasullycole.com/show/42-strings-southbank-centre/
LOCATION:Southbank Centre\, Royal Festival Hall\, Central Bar\, Belvedere Rd\, London\, SE1 8XX\, United Kingdom
END:VEVENT
BEGIN:VEVENT
DTSTART;TZID=UTC:20160531T190000
DTEND;TZID=UTC:20160531T230000
DTSTAMP:20260424T012443
CREATED:20160406T213210Z
LAST-MODIFIED:20250131T205348Z
UID:967-1464721200-1464735600@altheasullycole.com
SUMMARY:42 Strings @ Bedroom Bar
DESCRIPTION:42 Strings is honoured to announce they will be performing at Bedroom Bar in London on May 31st\, 2016. \n \nThe event will be held at Bedroom Bar – 62-68 Rivington St\, London EC2A 3AY \nDate: Tuesday May 31st\, 2016\nDoors open: 19:00 (7:00 pm)\nAdmission: FREE\n \nRSVP to the facebook event here: https://www.facebook.com/events/621687134650944/
URL:https://altheasullycole.com/show/42-strings-bedroom-bar/
LOCATION:Bedroom Bar\, 62-68 Rivington St\, London\, EC2A 3AY\, United Kingdom
END:VEVENT
BEGIN:VEVENT
DTSTART;TZID=UTC:20160520T200000
DTEND;TZID=UTC:20160520T220000
DTSTAMP:20260424T012443
CREATED:20160413T143617Z
LAST-MODIFIED:20250131T205348Z
UID:983-1463774400-1463781600@altheasullycole.com
SUMMARY:42 Strings @ Cafe Cairo
DESCRIPTION:42 Strings is very excited to announce that they will be performing at Cafe Cairo alongside exuberant klezmer band Oysland on May 20th! \n \nThe event will be held at Cafe Cairo –88 Landor Road\, London\, SW9 9PE \nDate: Friday May 20th\, 2016\nDoors open: 20:00 (8:00 pm)\nAdmission: £8\n \ncheck out the facebook event for more details: https://www.facebook.com/events/1107971365892109/
URL:https://altheasullycole.com/show/42-strings-cafe-cairo/
LOCATION:Cafe Cairo\, 88 Landor Road\, London\, SW9 9PE\, United Kingdom
END:VEVENT
BEGIN:VEVENT
DTSTART;TZID=UTC:20160516T200000
DTEND;TZID=UTC:20160516T220000
DTSTAMP:20260424T012443
CREATED:20160411T203003Z
LAST-MODIFIED:20250131T205348Z
UID:977-1463428800-1463436000@altheasullycole.com
SUMMARY:42 Strings @ Cabaret Futura
DESCRIPTION:42 Strings is very excited to announce that they will be performing at Cabaret Futura on May 16th! *Please note that this will be only 10-15 minute set amidst many other performances \n \nThe event will be held at Paradise – 19 Kilburn Lane\, Kensal Rise\, London W10 4AE \nDate: Monday May 16th\, 2016\nDoors open: 20:00 (8:00 pm)\nAdmission: £10\n \nFind the event on facebook here: https://www.facebook.com/events/855530797891931/\nFind tickets (make sure to buy for May 16th!) here: http://www.richardstrange.com/events/cabaret-futura/
URL:https://altheasullycole.com/show/42-strings-cabaret-futura/
LOCATION:Paradise\, 19 Kilburn Lane\, Kensal Rise\, London\, W10 4AE\, United Kingdom
END:VEVENT
BEGIN:VEVENT
DTSTART;TZID=UTC:20160330T160000
DTEND;TZID=UTC:20160330T170000
DTSTAMP:20260424T012443
CREATED:20160223T173435Z
LAST-MODIFIED:20250131T205349Z
UID:934-1459353600-1459357200@altheasullycole.com
SUMMARY:42 Strings on A World In London!
DESCRIPTION:42 Strings is very proud to announced they will be featured on A World In London with DJ Ritu on SOAS Radio Live on March 30th\, 2016. \n \nYou can listen live online at soasradio.org! \nDate: Wednesday March 30th 2016\nDoors open: 16:00 (4:00 pm)\nFree of course! \nFind out more about SOAS Radio and its programs on facebook : https://www.facebook.com/soasradio/
URL:https://altheasullycole.com/show/42-strings-on-a-world-in-london/
LOCATION:SOAS Radio
ORGANIZER;CN="SOAS Radio":MAILTO:soasradio.org
END:VEVENT
BEGIN:VEVENT
DTSTART;TZID=UTC:20160326T190000
DTEND;TZID=UTC:20160326T210000
DTSTAMP:20260424T012443
CREATED:20160303T164717Z
LAST-MODIFIED:20250131T205349Z
UID:948-1459018800-1459026000@altheasullycole.com
SUMMARY:42 Strings at the Rabbit Hole
DESCRIPTION:42 Strings is thrilled to announce their first full performance at the Rabbit Hole in Hampstead on Saturday\, March 26th! \n \nPhoto courtesy of Scarlet Crawford Photography \nPlease join us in the basement of Duke of Hamilton; 23-25 New End; London\, NW3 1JD United Kingdom \nDate: Friday March 26th 2016\nDoors open: 19:00 (7:00 pm)\nAdmission: £8 \nBuy tickets here: https://tigmus.com/42-strings/the-rabbit-hole/294\nFind more information on the facebook page: https://www.facebook.com/events/1022070427865497/ \n 
URL:https://altheasullycole.com/show/42-strings-at-the-rabbit-hole/
LOCATION:Duke of Hamilton\, 23-25 New End\, London\, NW3 1JD\, United Kingdom
END:VEVENT
BEGIN:VEVENT
DTSTART;TZID=UTC:20160317T183000
DTEND;TZID=UTC:20160317T203000
DTSTAMP:20260424T012443
CREATED:20160303T150729Z
LAST-MODIFIED:20250131T205349Z
UID:942-1458239400-1458246600@altheasullycole.com
SUMMARY:Solo Set with the Virtual Doctors at the Royal Geographical Society
DESCRIPTION:Althea is honored to announce that she will be performing at an event with the Virtual Doctors at the Royal Geographical Society. Virtual Doctors is a Brighton based telemedicine charity currently connecting rural health workers in Zambia to Doctors in the UK who support them with diagnosis and treatment advice. \nVirtual Doctors is hosting a drinks reception at the Royal Geographical Society in London on the evening of March the 17th between 18.30 and 20.30. \nDate: Thursday March 17th 2016\nDoors open: 18:30 (6:30 pm) \n 
URL:https://altheasullycole.com/show/solo-set-with-the-virtual-doctors-at-the-royal-geographical-society/
LOCATION:Royal Geographical Society\, 1 Kensington Gore\, London\, London\, SW7 2AR\, United Kingdom
END:VEVENT
BEGIN:VEVENT
DTSTART;TZID=UTC:20160314T193000
DTEND;TZID=UTC:20160314T223000
DTSTAMP:20260424T012443
CREATED:20160303T163813Z
LAST-MODIFIED:20250131T205349Z
UID:946-1457983800-1457994600@altheasullycole.com
SUMMARY:42 Strings at Cirque Du Syrié 2K16
DESCRIPTION:42 Strings is very pleased to announce they will perform at Cirque Du Syrié 2K16: a night of music\, food\, dance & dabke in support of besieged areas in Syria. \n \nThe event will be held at DLT\, SOAS University of London. All proceeds will go to Hand in Hand for Syria. \nDate: Monday March 14th 2016\nDoors open: 19:30 (7:30 pm)\nAdmission: £5 \nyou can also find more information on the facebook page: https://www.facebook.com/events/1097578190264194/
URL:https://altheasullycole.com/show/42-strings-at-cirque-du-syrie-2k16/
LOCATION:SOAS DLT\, Thornhaugh Street\, Russell Square \, London\, London\, WC1H 0XG\, United Kingdom
END:VEVENT
END:VCALENDAR