BEGIN:VCALENDAR
VERSION:2.0
PRODID:-//Althea SullyCole - ECPv6.15.3//NONSGML v1.0//EN
CALSCALE:GREGORIAN
METHOD:PUBLISH
X-WR-CALNAME:Althea SullyCole
X-ORIGINAL-URL:https://altheasullycole.com
X-WR-CALDESC:Events for Althea SullyCole
REFRESH-INTERVAL;VALUE=DURATION:PT1H
X-Robots-Tag:noindex
X-PUBLISHED-TTL:PT1H
BEGIN:VTIMEZONE
TZID:UTC
BEGIN:STANDARD
TZOFFSETFROM:+0000
TZOFFSETTO:+0000
TZNAME:UTC
DTSTART:20170101T000000
END:STANDARD
END:VTIMEZONE
BEGIN:VEVENT
DTSTART;TZID=UTC:20190626T203000
DTEND;TZID=UTC:20190626T223000
DTSTAMP:20260423T194020
CREATED:20190608T022154Z
LAST-MODIFIED:20250131T205346Z
UID:1270-1561581000-1561588200@altheasullycole.com
SUMMARY:Althea + Alec @ Chez Mon Ex
DESCRIPTION:Althea is thrilled to announce a string of performances in Brussels\, Belgium this June alongside her partner\, guitarist Alec Saelens! You can catch them at Chez Mon Ex on June 26th at 8:30 pm!
URL:https://altheasullycole.com/show/althea-alec-chez-mon-ex/
LOCATION:Chez Mon Ex\, Rue de Roumanie 2\, 1060 Saint-Gilles\, Brussels\, Belgium
END:VEVENT
BEGIN:VEVENT
DTSTART;TZID=UTC:20190602T160000
DTEND;TZID=UTC:20190602T190000
DTSTAMP:20260423T194020
CREATED:20190524T190448Z
LAST-MODIFIED:20250131T205346Z
UID:1259-1559491200-1559502000@altheasullycole.com
SUMMARY:Jazz and Self-Determination: Session 2 @ The People's Forum
DESCRIPTION:Join Althea as she co-moderates a panel discussion on Jazz and Self-Determination alongside musician and scholar Ras Moshe Burnett. There will be a particular emphasis on the independent record labels\, social formations\, and lofts that presented music in Brooklyn and New York City. \nOn Sunday\, June 2\, the panel will include: \nAurora Flores (Composer\, founder and leader of Zon del Barrio. Educator\, journalist and president of Aurora Communications)\nWarren Smith (Percussionist\, composer. Founder of Studio WIS (NYC 1967-1996). Educator (SUNY Old Westbury 1971-1996)Member of Collective Black Artists and Strata East Records. Founding member of Max Roach’s M’BOOM Percussion Ensemble and Bill Cole’s Untempered Ensemble)\nWilliam J. Harris (Poet\, author of The LeRoi Jones/Amiri Baraka Reader and The Poetry and Poetics of Amiri Baraka:The Jazz Aesthetic. Former English MFA director at University of Kansas)\nDavid Henderson (Poet and founding member of Umbra Writers Workshop (1962-1968). Co-founder of The Black Arts Movement. educator. Author of ‘Scuse Me While I Kiss The Sky:Jimi Hendrix-Voodoo Child. Contributed to Black Fire (edited by Amiri Baraka & Larry Neal)\nSam Anderson (Activist\, Educator\, mathematician. Co-founder of The Black Arts Movement. Founder of Black Education for Excellence. Contributed to Black Fire (1968 edited by Amiri Baraka & Larry Neal)\nAuthor of The Black Holocaust for Beginners)
URL:https://altheasullycole.com/show/jazz-and-self-determination-session-2-the-peoples-forum/
LOCATION:The People’s Forum\, 320 West 37th Street\, New York\, NY\, 10018\, United States
ORGANIZER;CN="The People's Forum":MAILTO:info@peoplesforum.org
END:VEVENT
BEGIN:VEVENT
DTSTART;TZID=UTC:20190519T160000
DTEND;TZID=UTC:20190519T170000
DTSTAMP:20260423T194020
CREATED:20190112T011702Z
LAST-MODIFIED:20250131T205346Z
UID:1250-1558281600-1558285200@altheasullycole.com
SUMMARY:Althea SullyCole @ Artistree
DESCRIPTION:Althea is thrilled to perform again in South Pomfret\, VT at Artistree! Join her in Vermont for an afternoon of original and traditional tunes for kora\, accompanied by surprise guests!
URL:https://altheasullycole.com/show/althea-sullycole-artistree/
LOCATION:Artistree\, 2095 Pomfret Road\,  South Pomfret\, VT\, 05067\, United States
END:VEVENT
BEGIN:VEVENT
DTSTART;TZID=UTC:20190412T203000
DTEND;TZID=UTC:20190412T213000
DTSTAMP:20260423T194020
CREATED:20190204T200154Z
LAST-MODIFIED:20250131T205346Z
UID:1254-1555101000-1555104600@altheasullycole.com
SUMMARY:Althea + Alec @ Postcrypt Coffeehouse
DESCRIPTION:Althea (kora) and Alec (guitar) are thrilled to announce their third FREE performance at Postcrypt this Spring! Join them for an evening of traditional and original tunes for kora and guitar. \n \nThe Postcrypt Coffeehouse is located in the basement of St. Paul’s Chapel (1160 Amsterdam Ave.) at Columbia University in New York City. The main Columbia campus is located in Morningside Heights in Manhattan (Maps: Columbia University Site\, and Google Maps). Enter the campus at 116th Street and Broadway and ask at the gatehouse for directions to the Chapel. You may also enter the campus at 116th Street and Amsterdam Avenue.
URL:https://altheasullycole.com/show/althea-alec-postcrypt-coffeehouse-2/
LOCATION:Postcrypt Coffeehouse\, 1160 Amsterdam Avenue\, New York\, NY\, 10025\, United States
END:VEVENT
BEGIN:VEVENT
DTSTART;TZID=UTC:20190308T203000
DTEND;TZID=UTC:20190308T213000
DTSTAMP:20260423T194020
CREATED:20190204T195904Z
LAST-MODIFIED:20250131T205346Z
UID:1253-1552077000-1552080600@altheasullycole.com
SUMMARY:Althea + Alec @ Postcrypt Coffeehouse
DESCRIPTION:Althea (kora) and Alec (guitar) are thrilled to announce their second FREE performance at Postcrypt this Spring! Join them for an evening of traditional and original tunes for kora and guitar. \n \nThe Postcrypt Coffeehouse is located in the basement of St. Paul’s Chapel (1160 Amsterdam Ave.) at Columbia University in New York City. The main Columbia campus is located in Morningside Heights in Manhattan (Maps: Columbia University Site\, and Google Maps). Enter the campus at 116th Street and Broadway and ask at the gatehouse for directions to the Chapel. You may also enter the campus at 116th Street and Amsterdam Avenue.
URL:https://altheasullycole.com/show/althea-alec-postcrypt-coffeehouse/
LOCATION:Postcrypt Coffeehouse\, 1160 Amsterdam Avenue\, New York\, NY\, 10025\, United States
END:VEVENT
BEGIN:VEVENT
DTSTART;TZID=UTC:20190125T203000
DTEND;TZID=UTC:20190125T213000
DTSTAMP:20260423T194020
CREATED:20190104T050938Z
LAST-MODIFIED:20250131T205346Z
UID:1247-1548448200-1548451800@altheasullycole.com
SUMMARY:Althea SullyCole @ Postcrypt Coffeehouse
DESCRIPTION:Come to Postcrypt Coffeehouse for a FREE evening of kora music\, a mix of traditional and original tunes\, performed by Althea SullyCole! \n \nThe Postcrypt Coffeehouse is located in the basement of St. Paul’s Chapel (1160 Amsterdam Ave.) at Columbia University in New York City. The main Columbia campus is located in Morningside Heights in Manhattan (Maps: Columbia University Site\, and Google Maps). Enter the campus at 116th Street and Broadway and ask at the gatehouse for directions to the Chapel. You may also enter the campus at 116th Street and Amsterdam Avenue.
URL:https://altheasullycole.com/show/althea-sullycole-postcrypt-coffeehouse/
LOCATION:Postcrypt Coffeehouse\, 1160 Amsterdam Avenue\, New York\, NY\, 10025\, United States
END:VEVENT
BEGIN:VEVENT
DTSTART;TZID=UTC:20181110T070000
DTEND;TZID=UTC:20181110T230000
DTSTAMP:20260423T194020
CREATED:20181020T010106Z
LAST-MODIFIED:20250131T205346Z
UID:1241-1541833200-1541890800@altheasullycole.com
SUMMARY:The 12 Houses. All Together Now.
DESCRIPTION:The 12 Houses are back in NYC as part of Ras Moshe’s Music Now series with music for Hamiet Bluiett\, music from Charles Waters\, an arrangement of Alice Coltrane’s Journey to Satchidananda and more. Part of a full night event. \nYou can check Althea alongside Ras and Warren Smith at 9 pm! Full line up below: \nSaturday\, November 10th 2018 \nMusic Now! At Scholes Street Studio\nhttp://www.scholesstreetstudio.com \n7pm\n“Manna For Thought” Music release set!!\nwith\nNora McCarthy-Voice\nDom Minasi-Guitar\nRas Moshe Burnett-Tenor Sax & Flute \n8pm\nLee Odom Ensemble \n9pm\n“African Jazz Trio”\nSongs from West Africa arranged and adapted by Althea SullyCole\nwith\nAlthea Sully Cole-Kora\nWarren Smith-Percussion\nRas Moshe Burnett-Reeds \n10pm\n“The 12 Houses”\nwith\nMatt Lavelle-Trumpet\,Bass Clarinet and compositions\nAr Braf-Words\nChris Forbes-Piano\nLinda Sikhakane-Tenor Sax\nCharles Waters-Alto Sax\nClaire Daley-Baritone Sax\nLee Odom-Reeds\nMary Cherney-Flute\nRas Moshe Burnett-Reeds\nJack DeSalvo-Guitar\nFrancois Grillot-Bass\n$20 \nScholes Street Studio\n375 Lorimer St (corner of Scholes and Lorimer)\nWilliamsburg\, Brooklyn\n(the J or L trains to Lorimer St.)
URL:https://altheasullycole.com/show/the-12-houses-all-together-now/
LOCATION:Scholes Street Studio\, 375 Lorimer St\, Brooklyn\, NY\, 11206\, United States
END:VEVENT
BEGIN:VEVENT
DTSTART;TZID=UTC:20180922T200000
DTEND;TZID=UTC:20180922T230000
DTSTAMP:20260423T194020
CREATED:20180907T044029Z
LAST-MODIFIED:20250131T205346Z
UID:1236-1537646400-1537657200@altheasullycole.com
SUMMARY:Solo Set @ Rhythmic Integration Center
DESCRIPTION:
URL:https://altheasullycole.com/show/solo-set-rhythmic-integration-center/
LOCATION:Rhythmic Integration Center\, 517 Litchfield Road\, New Milford\, CT\, 06776\, United States
END:VEVENT
BEGIN:VEVENT
DTSTART;TZID=UTC:20180921T203000
DTEND;TZID=UTC:20180921T213000
DTSTAMP:20260423T194020
CREATED:20180822T233401Z
LAST-MODIFIED:20250131T205346Z
UID:1230-1537561800-1537565400@altheasullycole.com
SUMMARY:Solo Set @ Postcrypt
DESCRIPTION:Althea is delighted to return to the stage at Postcrypt Coffeehouse on Friday\, September 22nd (8:30 pm) for a free show! \n \nFor more information about this concert\, please click here. \nFor more information about the series\, please click here. \nPostcrypt Coffeehouse is located in the basement of St. Paul’s Chapel (1160 Amsterdam Ave.) at Columbia University in New York City. Enter the campus at 116th Street and Broadway and ask at the gatehouse for directions to the Chapel. You may also enter the campus at 116th Street and Amsterdam Avenue.
URL:https://altheasullycole.com/show/solo-set-postcrypt/
LOCATION:Postcrypt Coffeehouse\, 1160 Amsterdam Avenue\, New York\, NY\, 10025\, United States
END:VEVENT
BEGIN:VEVENT
DTSTART;TZID=UTC:20180712T180000
DTEND;TZID=UTC:20180712T201500
DTSTAMP:20260423T194020
CREATED:20180521T170746Z
LAST-MODIFIED:20250131T205346Z
UID:1222-1531418400-1531426500@altheasullycole.com
SUMMARY:Althea & Alec @ Wild Roots
DESCRIPTION:Althea and Alec are thrilled to bring their duo to Wild Roots Restaurant for a set of performances over the summer! 2 sets starting at 6 pm! \n \nWild Roots Restaurant\n5615 VT RT 14\nRoyalton\, VT\, 05068 \n6 pm
URL:https://altheasullycole.com/show/althea-alec-wild-roots-more-details-tba/
LOCATION:Wild Roots VT\, 5615 VT RT 14 \, Royalton\, VT\, 05068\, United States
END:VEVENT
BEGIN:VEVENT
DTSTART;TZID=UTC:20180628T160000
DTEND;TZID=UTC:20180628T190000
DTSTAMP:20260423T194020
CREATED:20180521T171839Z
LAST-MODIFIED:20250131T205346Z
UID:1224-1530201600-1530212400@altheasullycole.com
SUMMARY:Althea & Alec @ Lebanon Farmer's Market
DESCRIPTION:Althea and Alec are thrilled to perform at the Lebanon Farmer’s Market in New Hampshire on Thursday\, June 28th. \n \nLebanon Farmer’s Market\nColburn Park\n51 N Park St\nLebanon\, NH 03766 \n4-7 pm \nFREE \n 
URL:https://altheasullycole.com/show/althea-alec-lebanon-farmers-market/
LOCATION:Lebanon Farmer’s Market\, 51 N Park St\, Lebanon\, VT\, 03766\, United States
END:VEVENT
BEGIN:VEVENT
DTSTART;TZID=UTC:20180616T180000
DTEND;TZID=UTC:20180616T201500
DTSTAMP:20260423T194020
CREATED:20180521T170316Z
LAST-MODIFIED:20250131T205346Z
UID:1219-1529172000-1529180100@altheasullycole.com
SUMMARY:Althea & Alec @ Wild Roots
DESCRIPTION:Althea and Alec are thrilled to bring their duo to Wild Roots Restaurant for a set of performances over the summer! 2 sets starting at 6 pm! \n \nWild Roots Restaurant\n5615 VT RT 14\nRoyalton\, VT\, 05068 \n6 pm
URL:https://altheasullycole.com/show/althea-alec-wild-roots/
LOCATION:Wild Roots VT\, 5615 VT RT 14 \, Royalton\, VT\, 05068\, United States
END:VEVENT
BEGIN:VEVENT
DTSTART;TZID=UTC:20180610T160000
DTEND;TZID=UTC:20180610T220000
DTSTAMP:20260423T194020
CREATED:20180521T163948Z
LAST-MODIFIED:20250131T205346Z
UID:1212-1528646400-1528668000@altheasullycole.com
SUMMARY:Bill Cole's Untempered Ensemble @ D.C. Jazz Fest
DESCRIPTION:Althea will be joining her father’s Untempered Ensemble for their performance at D.C. Jazz Fest Sunday\, June 10th at Rhizome D.C. Join her for two sets of progressive jazz alongside father/leader Bill Cole\, Jamal Moore\, Warren Smith\, Larry Roland\, Ras Moshe and Lisette Santiago. \n \nRhizome DC\n6950 Maple St NW\, in the Takoma neighborhood of Washington DC \n4 pm – $10\nUntempered Quartet \nBill Cole – Leader\, Asian double reed horns & didgeridoo\nRas Moshe – tenor\, flute\nAlthea SullyCole – voice\, kora\nLarry Roland – bass\n8 pm – $20\nUntempered Ensemble\n\nBill Cole – Leader\, Asian Double reed horns & didgeridoo\nWarren Smith – Drums\, Percussion\nJamal Moore – reeds\, flute\, perc.\nLisette Santiago – perc.\nAlthea SullyCole – voice\, kora\nLarry Roland – bass
URL:https://altheasullycole.com/show/bill-coles-untempered-ensemble-d-c-jazz-fest/
LOCATION:Rhizome DC\, 6950 Maple St NW\, Washington D.C.\, DC\, 20012\, United States
END:VEVENT
BEGIN:VEVENT
DTSTART;TZID=UTC:20180603T130000
DTEND;TZID=UTC:20180603T160000
DTSTAMP:20260423T194020
CREATED:20180521T165029Z
LAST-MODIFIED:20250131T205346Z
UID:1216-1528030800-1528041600@altheasullycole.com
SUMMARY:Althea & Ras @ The Left Forum
DESCRIPTION:Althea SullyCole and Ras Moshe continue their collaboration in duo at the Left Forum at John Jay College. \n \nJohn Jay College of Criminal Justice\nThe City University of New York\n899 10th Avenue (between 58th and 59th Streets)\nNew York\, NY 10019 \nPerformance will take place at 1:00 pm in Room 1.100 and will be followed by a panel discussion “Jazz and Self Determination: A Social History” at 2:00. In addition to Althea and Ras\, the featured speakers will include Juma Sultan\, Basir Mchawi\, Joe McPhee and Warren Smith.
URL:https://altheasullycole.com/show/althea-ras-the-left-forum/
LOCATION:John Jay College of Criminal Justice\, The City University of New York\, 899 10th Avenue (between 58th and 59th streets)\, New York\, NY\, 10019\, United States
END:VEVENT
BEGIN:VEVENT
DTSTART;TZID=UTC:20180429T080000
DTEND;TZID=UTC:20180429T170000
DTSTAMP:20260423T194020
CREATED:20180126T175321Z
LAST-MODIFIED:20250131T205346Z
UID:1197-1524988800-1525021200@altheasullycole.com
SUMMARY:In Her Voice
DESCRIPTION:Althea is thrilled to announce she’ll be performing alongside some incredible women on the Millenium Stage on April 29th. More details T.B.A.
URL:https://altheasullycole.com/show/in-her-voice/
LOCATION:The John F. Kennedy Center Millenium Stage\, 2700 F St NW\, Washington D.C.\, DC\, 20566\, United States
ORGANIZER;CN="The John F. Kennedy Center Millenium Stage":MAILTO:http://www.kennedy-center.org/video/upcoming
END:VEVENT
BEGIN:VEVENT
DTSTART;TZID=UTC:20180427T203000
DTEND;TZID=UTC:20180427T213000
DTSTAMP:20260423T194020
CREATED:20180116T061700Z
LAST-MODIFIED:20250131T205346Z
UID:1187-1524861000-1524864600@altheasullycole.com
SUMMARY:Althea & Jerome @ Postcrypt
DESCRIPTION:Althea is thrilled to announce her spring 2018 residency at Postcrypt! The forth and final installment of this collaborative series will feature a surprise guest! \n \nEach concert in the 4-part residency begins at 8:30 pm and is FREE to the public! \nFor more information about this concert\, please click here. \nFor more information about the series\, please click here. \nPostcrypt Coffeehouse is located in the basement of St. Paul’s Chapel (1160 Amsterdam Ave.) at Columbia University in New York City. Enter the campus at 116th Street and Broadway and ask at the gatehouse for directions to the Chapel. You may also enter the campus at 116th Street and Amsterdam Avenue.
URL:https://altheasullycole.com/show/althea-t-b-a-postcrypt-2/
LOCATION:Postcrypt Coffeehouse\, 1160 Amsterdam Avenue\, New York\, NY\, 10025\, United States
END:VEVENT
BEGIN:VEVENT
DTSTART;TZID=UTC:20180424T113000
DTEND;TZID=UTC:20180424T130000
DTSTAMP:20260423T194020
CREATED:20180415T013904Z
LAST-MODIFIED:20250131T205346Z
UID:1204-1524569400-1524574800@altheasullycole.com
SUMMARY:String Stories: The Roots & Fruits of the Blues with LaFrae Sci & the Groove Diplomacy Blues Orchestra
DESCRIPTION:Althea is thrilled to announce she’ll be performing at the Apollo Theatre as part of their educational series alongside LaFrae Sci and her Groove Diplomacy Blues Orchestra.
URL:https://altheasullycole.com/show/string-stories-the-roots-fruits-of-the-blues-with-lafrae-sci-the-groove-diplomacy-blues-orchestra/
LOCATION:The Apollo Theatre\, 253 W 125th St\, New York City\, NY\, 10027\, United States
END:VEVENT
BEGIN:VEVENT
DTSTART;TZID=UTC:20180416T190000
DTEND;TZID=UTC:20180416T220000
DTSTAMP:20260423T194020
CREATED:20180402T165541Z
LAST-MODIFIED:20250131T205346Z
UID:1201-1523905200-1523916000@altheasullycole.com
SUMMARY:Music Now! with Ras Moshé @ the Brooklyn Commons
DESCRIPTION:Althea is thrilled to announce that she’ll be performing alongside Ras Moshé and a huge roster of creative music makers at the Brooklyn Commons on April 16th – Join us! [More details TBA]
URL:https://altheasullycole.com/show/music-now-with-ras-moshe-the-brooklyn-commons/
LOCATION:Brooklyn Commons\, 388 Atlantic Ave (btwn Hoyt st. & Bond st.)\, New York\, NY\, 11217\, United States
END:VEVENT
BEGIN:VEVENT
DTSTART;VALUE=DATE:20180412
DTEND;VALUE=DATE:20180413
DTSTAMP:20260423T194020
CREATED:20180116T062349Z
LAST-MODIFIED:20250131T205346Z
UID:1188-1523491200-1523577599@altheasullycole.com
SUMMARY:Prayer Rituals @ Firehouse 12
DESCRIPTION:Althea is honored to be a part of Joseph Daley’s project “Prayer Rituals” in honor of his late wife\, Wanda Daley.
URL:https://altheasullycole.com/show/prayer-rituals-firehouse-12/
LOCATION:Firehouse 12\, 45 Crown Street\, New Haven\, CT\, 06510\, United States
END:VEVENT
BEGIN:VEVENT
DTSTART;TZID=UTC:20180411T190000
DTEND;TZID=UTC:20180411T210000
DTSTAMP:20260423T194020
CREATED:20180126T174733Z
LAST-MODIFIED:20250131T205346Z
UID:1193-1523473200-1523480400@altheasullycole.com
SUMMARY:Joseph Daley Tuba Trio w/ Special Guests
DESCRIPTION:Althea is honored to announce she’ll join the Joseph Daley Tuba Trio for performances in New York and New Haven this spring. Join her alongside Joseph Daley (tuba)\, Scott Robinson (reeds)\, Warren Smith (percussion)\, Bill Cole (multi-reeds)\, and Craig Harris (trombone) on April 11th\, 7 pm @ Soup and Sound.
URL:https://altheasullycole.com/show/joseph-daley-tuba-trio-w-special-guests/
LOCATION:Soup and Sound
END:VEVENT
BEGIN:VEVENT
DTSTART;TZID=UTC:20180330T203000
DTEND;TZID=UTC:20180330T213000
DTSTAMP:20260423T194020
CREATED:20180116T060138Z
LAST-MODIFIED:20250131T205347Z
UID:1183-1522441800-1522445400@altheasullycole.com
SUMMARY:Althea & Lisette @ Postcrypt - CANCELLED
DESCRIPTION:*Please note that this event has been CANCELLED \nAlthea is thrilled to announce her spring 2018 residency at Postcrypt! The third installment of the collaborative series will feature percussionist Lisette Santiago! \n \n  \n  \n  \n  \n  \n  \n  \n  \nEach concert in the 4-part residency begins at 8:30 pm and is FREE to the public! \nFor more information about this concert\, please click here. \nFor more information about the series\, please click here. \nPostcrypt Coffeehouse is located in the basement of St. Paul’s Chapel (1160 Amsterdam Ave.) at Columbia University in New York City. Enter the campus at 116th Street and Broadway and ask at the gatehouse for directions to the Chapel. You may also enter the campus at 116th Street and Amsterdam Avenue.
URL:https://altheasullycole.com/show/althea-t-b-a-postcrypt/
LOCATION:Postcrypt Coffeehouse\, 1160 Amsterdam Avenue\, New York\, NY\, 10025\, United States
END:VEVENT
BEGIN:VEVENT
DTSTART;TZID=UTC:20180216T203000
DTEND;TZID=UTC:20180216T213000
DTSTAMP:20260423T194020
CREATED:20180116T050448Z
LAST-MODIFIED:20250131T205347Z
UID:1181-1518813000-1518816600@altheasullycole.com
SUMMARY:Althea & Alec @ Postcrypt
DESCRIPTION:Althea is thrilled to announce her spring 2018 residency at Postcrypt! The second installment of the collaborative series will feature guitarist Alec Saelens. \n \nEach concert in the 4-part residency begins at 8:30 pm and is FREE to the public! \nFor more information about this concert\, please click here. \nFor more information about the series\, please click here. \nPostcrypt Coffeehouse is located in the basement of St. Paul’s Chapel (1160 Amsterdam Ave.) at Columbia University in New York City. Enter the campus at 116th Street and Broadway and ask at the gatehouse for directions to the Chapel. You may also enter the campus at 116th Street and Amsterdam Avenue.
URL:https://altheasullycole.com/show/althea-alec-postcrypt/
LOCATION:Postcrypt Coffeehouse\, 1160 Amsterdam Avenue\, New York\, NY\, 10025\, United States
END:VEVENT
BEGIN:VEVENT
DTSTART;TZID=UTC:20180126T203000
DTEND;TZID=UTC:20180126T213000
DTSTAMP:20260423T194020
CREATED:20180116T045941Z
LAST-MODIFIED:20250131T205347Z
UID:1180-1516998600-1517002200@altheasullycole.com
SUMMARY:Althea & Ras @ Postcrypt
DESCRIPTION:Althea is thrilled to announce her spring 2018 residency at Postcrypt! The first installment of the collaborative series will feature tenor sax and flute player Ras Moshé. \n \nEach concert in the 4-part residency begins at 8:30 pm and is FREE to the public! \nFor more information about this concert\, please click here. \nFor more information about the series\, please click here. \nPostcrypt Coffeehouse is located in the basement of St. Paul’s Chapel (1160 Amsterdam Ave.) at Columbia University in New York City. Enter the campus at 116th Street and Broadway and ask at the gatehouse for directions to the Chapel. You may also enter the campus at 116th Street and Amsterdam Avenue.
URL:https://altheasullycole.com/show/althea-ras-postcrypt-3/
LOCATION:Postcrypt Coffeehouse\, 1160 Amsterdam Avenue\, New York\, NY\, 10025\, United States
END:VEVENT
BEGIN:VEVENT
DTSTART;TZID=UTC:20180114T160000
DTEND;TZID=UTC:20180114T170000
DTSTAMP:20260423T194020
CREATED:20180112T000706Z
LAST-MODIFIED:20250131T205347Z
UID:1179-1515945600-1515949200@altheasullycole.com
SUMMARY:New Works for Kora @ Artistree
DESCRIPTION:Check out Althea performing solo in the afternoon of January 14th\, 4 pm\, at Artistree Community Arts Center in South Pomfret\, Vermont!
URL:https://altheasullycole.com/show/new-works-for-kora-artistree/
LOCATION:Artistree\, 2095 Pomfret Road\,  South Pomfret\, VT\, 05067\, United States
END:VEVENT
BEGIN:VEVENT
DTSTART;TZID=UTC:20171201T200000
DTEND;TZID=UTC:20171201T210000
DTSTAMP:20260423T194020
CREATED:20180112T000330Z
LAST-MODIFIED:20250131T205347Z
UID:1177-1512158400-1512162000@altheasullycole.com
SUMMARY:Althea & Ras @ Postcrypt
DESCRIPTION:Check out Althea (kora) and Ras Moshe (tenor sex & flute) at Postcrypt Coffee House on Friday\, December 1st at 8 pm! It’s free! \n \nThe Postcrypt Coffeehouse is located in the basement of St. Paul’s Chapel (1160 Amsterdam Ave.) at Columbia University in New York City. The main Columbia campus is located in Morningside Heights in Manhattan (Maps: Columbia University Site\, and Google Maps). Enter the campus at 116th Street and Broadway and ask at the gatehouse for directions to the Chapel. You may also enter the campus at 116th Street and Amsterdam Avenue.
URL:https://altheasullycole.com/show/althea-ras-postcrypt-2/
LOCATION:Postcrypt Coffeehouse\, 1160 Amsterdam Avenue\, New York\, NY\, 10025\, United States
END:VEVENT
BEGIN:VEVENT
DTSTART;TZID=UTC:20171117T200000
DTEND;TZID=UTC:20171117T210000
DTSTAMP:20260423T194020
CREATED:20180112T000153Z
LAST-MODIFIED:20250131T205347Z
UID:1173-1510948800-1510952400@altheasullycole.com
SUMMARY:Althea & Ras @ Postcrypt
DESCRIPTION:Check out Althea (kora) and Ras Moshe (tenor sex & flute) at Postcrypt Coffee House on Friday\, November 17th at 8 pm! It’s free! \n \nThe Postcrypt Coffeehouse is located in the basement of St. Paul’s Chapel (1160 Amsterdam Ave.) at Columbia University in New York City. The main Columbia campus is located in Morningside Heights in Manhattan (Maps: Columbia University Site\, and Google Maps). Enter the campus at 116th Street and Broadway and ask at the gatehouse for directions to the Chapel. You may also enter the campus at 116th Street and Amsterdam Avenue.
URL:https://altheasullycole.com/show/althea-ras-postcrypt/
LOCATION:Postcrypt Coffeehouse\, 1160 Amsterdam Avenue\, New York\, NY\, 10025\, United States
END:VEVENT
BEGIN:VEVENT
DTSTART;TZID=UTC:20170526T200000
DTEND;TZID=UTC:20170526T230000
DTSTAMP:20260423T194020
CREATED:20170522T190738Z
LAST-MODIFIED:20250131T205347Z
UID:1166-1495828800-1495839600@altheasullycole.com
SUMMARY:Solo Set @ We Are Todos
DESCRIPTION:It is a bittersweet thrill to announce Althea’s last concert as part of an ongoing residency in Mexico at We Are Todos on Friday\, May 26th!
URL:https://altheasullycole.com/show/solo-set-we-are-todos/
LOCATION:We Are Todos\, tabasco 242\, Mexico City\, Mexico
END:VEVENT
BEGIN:VEVENT
DTSTART;TZID=UTC:20170521T190000
DTEND;TZID=UTC:20170521T190000
DTSTAMP:20260423T194020
CREATED:20170511T005635Z
LAST-MODIFIED:20250131T205347Z
UID:1163-1495393200-1495393200@altheasullycole.com
SUMMARY:Jam @ Bucareli 69
DESCRIPTION:Join us Sunday evening\, May 21st\, for a jam alongside kora players Althea SullyCole and Babou Diebete as part of La Semana de La Kora at Bucareli 69!
URL:https://altheasullycole.com/show/jam-bucareli-69/
LOCATION:Bucareli 69\, Colonia Juarez\, Cuauhtémoc\, Distrito Federal\, Distrito Federal\, Mexico
END:VEVENT
BEGIN:VEVENT
DTSTART;TZID=UTC:20170520T170000
DTEND;TZID=UTC:20170520T200000
DTSTAMP:20260423T194020
CREATED:20170511T004226Z
LAST-MODIFIED:20250131T205347Z
UID:1161-1495299600-1495310400@altheasullycole.com
SUMMARY:Workshop @ Bucareli 69
DESCRIPTION:Althea SullyCole and Babou Diabate will be doing a workshop about the roots of the kora at Bucareli 69 as part of Semana de La Kora on May 20th\, 2017 at 5 pm!
URL:https://altheasullycole.com/show/workshop-bucareli-69/
LOCATION:Bucareli 69\, Colonia Juarez\, Cuauhtémoc\, Distrito Federal\, Distrito Federal\, Mexico
END:VEVENT
BEGIN:VEVENT
DTSTART;TZID=UTC:20170519T200000
DTEND;TZID=UTC:20170519T220000
DTSTAMP:20260423T194020
CREATED:20170502T224927Z
LAST-MODIFIED:20250131T205347Z
UID:1154-1495224000-1495231200@altheasullycole.com
SUMMARY:Solo Set @ Bucareli 69
DESCRIPTION:Althea is thrilled to announce her second performance as part of an ongoing residence in Mexico City! \n \nWhen: Friday\, Saturday May 19th 8:00 pm\nWhere: Bucareli 69\, Colonia Juarez\, Cuauhtémoc\, Distrito Federal\, Mexico\nPrice: $100
URL:https://altheasullycole.com/show/solo-set-bucareli/
LOCATION:Bucareli 69\, Colonia Juarez\, Cuauhtémoc\, Distrito Federal\, Distrito Federal\, Mexico
END:VEVENT
END:VCALENDAR