BEGIN:VCALENDAR
VERSION:2.0
PRODID:-//Althea SullyCole - ECPv6.15.3//NONSGML v1.0//EN
CALSCALE:GREGORIAN
METHOD:PUBLISH
X-WR-CALNAME:Althea SullyCole
X-ORIGINAL-URL:https://altheasullycole.com
X-WR-CALDESC:Events for Althea SullyCole
REFRESH-INTERVAL;VALUE=DURATION:PT1H
X-Robots-Tag:noindex
X-PUBLISHED-TTL:PT1H
BEGIN:VTIMEZONE
TZID:America/Toronto
BEGIN:DAYLIGHT
TZOFFSETFROM:-0500
TZOFFSETTO:-0400
TZNAME:EDT
DTSTART:20250309T070000
END:DAYLIGHT
BEGIN:STANDARD
TZOFFSETFROM:-0400
TZOFFSETTO:-0500
TZNAME:EST
DTSTART:20251102T060000
END:STANDARD
BEGIN:DAYLIGHT
TZOFFSETFROM:-0500
TZOFFSETTO:-0400
TZNAME:EDT
DTSTART:20260308T070000
END:DAYLIGHT
BEGIN:STANDARD
TZOFFSETFROM:-0400
TZOFFSETTO:-0500
TZNAME:EST
DTSTART:20261101T060000
END:STANDARD
END:VTIMEZONE
BEGIN:VTIMEZONE
TZID:UTC
BEGIN:STANDARD
TZOFFSETFROM:+0000
TZOFFSETTO:+0000
TZNAME:UTC
DTSTART:20210101T000000
END:STANDARD
END:VTIMEZONE
BEGIN:VEVENT
DTSTART;TZID=America/Toronto:20260115T180000
DTEND;TZID=America/Toronto:20260115T200000
DTSTAMP:20260423T121615
CREATED:20260119T221227Z
LAST-MODIFIED:20260119T221227Z
UID:17848-1768500000-1768507200@altheasullycole.com
SUMMARY:Solo Set @ the Museum of Fine Arts\, Boston
DESCRIPTION:Join Althea for a solo set in Gallery 171\, Arts of Africa\, at the Museum of Fine Arts\, Boston\, from 6-8 pm on January 15th! Free with $5 admission!
URL:https://altheasullycole.com/show/solo-set-the-museum-of-fine-arts-boston/
LOCATION:Museum of Fine Arts\, 65 Huntington Ave\, Boston\, MA\, 02115\, United States
END:VEVENT
BEGIN:VEVENT
DTSTART;TZID=America/Toronto:20251115T150000
DTEND;TZID=America/Toronto:20251115T170000
DTSTAMP:20260423T121615
CREATED:20250829T124150Z
LAST-MODIFIED:20250829T124403Z
UID:17784-1763218800-1763226000@altheasullycole.com
SUMMARY:Solo Set @ Hood College; Frederick\, MD
DESCRIPTION:Join Althea for a Solo Set at Hood College in Frederick\, MD!
URL:https://altheasullycole.com/show/solo-set-hood-college-frederick-md/
LOCATION:Hood College\, 401 Rosemont Ave\, Frederick\, MD\, 21701\, United States
END:VEVENT
BEGIN:VEVENT
DTSTART;TZID=America/Toronto:20251031T180000
DTEND;TZID=America/Toronto:20251031T210000
DTSTAMP:20260423T121615
CREATED:20251006T221029Z
LAST-MODIFIED:20251006T221029Z
UID:17822-1761933600-1761944400@altheasullycole.com
SUMMARY:Album Launch @ Schulich School of Music; Montreal\, QC
DESCRIPTION:Join Althea for the official launch of her album Due West at her home institution the Schulich School of Music at Mcgill University in Montreal! Free! Food! Register here: https://libraryrooms.mcgill.ca/calendar/mcgill/SullyCole
URL:https://altheasullycole.com/show/album-launch-schulich-school-of-music-montreal-qc/
LOCATION:Marvin Duchow Music Library\, Schulich School of Music\, McGill University\, Elizabeth Wirth Music Building\, 3rd floor - 527 Sherbrooke Street West\, Montreal\, Quebec\, H3A 1E3\, Canada
END:VEVENT
BEGIN:VEVENT
DTSTART;TZID=America/Toronto:20251026T153000
DTEND;TZID=America/Toronto:20251026T180000
DTSTAMP:20260423T121615
CREATED:20250713T162648Z
LAST-MODIFIED:20250904T182642Z
UID:17761-1761492600-1761501600@altheasullycole.com
SUMMARY:Solo Set @ aKAZ! ATL; Atlanta\, Georgia
DESCRIPTION:Join Althea for a solo set at the aKAZ! ATL gallery in Atlanta!
URL:https://altheasullycole.com/show/solo-set-akaz-atl/
LOCATION:aKAZ! ATL\, 364 Auburn Avenue\, Atlanta\, GA\, 30312\, United States
ORGANIZER;CN="aKAZ! ATL":MAILTO:akazi.atl@gmail.com
END:VEVENT
BEGIN:VEVENT
DTSTART;TZID=America/Toronto:20251019T140000
DTEND;TZID=America/Toronto:20251019T180000
DTSTAMP:20260423T121615
CREATED:20251006T220011Z
LAST-MODIFIED:20251006T220011Z
UID:17818-1760882400-1760896800@altheasullycole.com
SUMMARY:Music Now! with Ras Moshe @ Scholes Street Studio; New York\, NY
DESCRIPTION:Join Althea for a New York homecoming with longtime collaborator Ras Moshe\, among many others\, at Scholes Street Studio!
URL:https://altheasullycole.com/show/music-now-with-ras-moshe-scholes-street-studio-new-york-ny/
LOCATION:Scholes Street Studio\, 375 Lorimer St\, Brooklyn\, NY\, 11206\, United States
END:VEVENT
BEGIN:VEVENT
DTSTART;TZID=America/Toronto:20251018T143000
DTEND;TZID=America/Toronto:20251018T163000
DTSTAMP:20260423T121615
CREATED:20250818T123604Z
LAST-MODIFIED:20250904T182231Z
UID:17782-1760797800-1760805000@altheasullycole.com
SUMMARY:Solo Set @ Metropolitan Museum of Art; New York City\, NY
DESCRIPTION:Join Althea for two solo sets in the American Wing at the Metropolitan Museum of Art in New York City as a part of their fall festival! \nSets begin at 2:30 pm and 3:30 pm. \n \n 
URL:https://altheasullycole.com/show/solo-set-metropolitan-museum-of-art-new-york-city-ny/
LOCATION:Metropolitan Museum of Art\, Gallery 459\, 1000 5th avenue\, New York\, NY\, 10028\, United States
END:VEVENT
BEGIN:VEVENT
DTSTART;TZID=America/Toronto:20250907T130000
DTEND;TZID=America/Toronto:20250907T150000
DTSTAMP:20260423T121615
CREATED:20250712T140201Z
LAST-MODIFIED:20250713T162750Z
UID:17748-1757250000-1757257200@altheasullycole.com
SUMMARY:Front Porch Music Series @ Claremont Creative Center; Claremont\, New Hampshire
DESCRIPTION:Join Althea SullyCole alongside Bill Cole\, Ras Moshe\, Taylor Ho Bynum\, Joseph Daley\, Bill Lowe\, Daniel Lin\, and Lisette Santiago for the fourth instalment of the sixth annual Front Porch Music Series live at Claremont Creative Center in New Hampshire!
URL:https://altheasullycole.com/show/front-porch-music-series-claremont-creative-center/
LOCATION:Claremont Creative Center\, 56 Opera House Square\, Claremont\, NH\, 03743\, United States
END:VEVENT
BEGIN:VEVENT
DTSTART;TZID=America/Toronto:20250513T180000
DTEND;TZID=America/Toronto:20250513T193000
DTSTAMP:20260423T121615
CREATED:20250604T233314Z
LAST-MODIFIED:20250604T233314Z
UID:17342-1747159200-1747164600@altheasullycole.com
SUMMARY:Poetry and Jazz in Concert with Daniel Summerhill @ Santa Clara University
DESCRIPTION:
URL:https://altheasullycole.com/show/poetry-and-jazz-in-concert-with-daniel-summerhill-santa-clara-university/
LOCATION:Santa Clara University Recital Hall\, Franklin St\, Santa Clara\, CA\, 95050\, United States
END:VEVENT
BEGIN:VEVENT
DTSTART;TZID=America/Toronto:20250424T190000
DTEND;TZID=America/Toronto:20250424T190000
DTSTAMP:20260423T121615
CREATED:20250604T233035Z
LAST-MODIFIED:20250604T233035Z
UID:17340-1745521200-1745521200@altheasullycole.com
SUMMARY:Althea SullyCole with Jeffrey A. Jones @ CSUMB Music Hall
DESCRIPTION:
URL:https://altheasullycole.com/show/althea-sullycole-with-jeffrey-a-jones-csumb-music-hall/
LOCATION:CSUMB Music Hall\, 3220 6th Avenue\, Seaside\, CA\, 93955\, United States
END:VEVENT
BEGIN:VEVENT
DTSTART;TZID=America/Toronto:20250418T180000
DTEND;TZID=America/Toronto:20250418T193000
DTSTAMP:20260423T121615
CREATED:20250604T232902Z
LAST-MODIFIED:20250604T233346Z
UID:17337-1744999200-1745004600@altheasullycole.com
SUMMARY:Solo @ UC Davis Pitzer Center
DESCRIPTION:
URL:https://altheasullycole.com/show/solo-uc-davis-pitzer-center/
LOCATION:UC Davis Pitzer Center\, Hutchison Dr &\, Cushing Way\, Davis\, CA\, 95616\, United States
END:VEVENT
BEGIN:VEVENT
DTSTART;TZID=America/Toronto:20250309T150000
DTEND;TZID=America/Toronto:20250309T163000
DTSTAMP:20260423T121615
CREATED:20250604T232647Z
LAST-MODIFIED:20250604T235143Z
UID:17335-1741532400-1741537800@altheasullycole.com
SUMMARY:Althea SullyCole and Friends @ Artistree
DESCRIPTION:Join Althea SullyCole alongside Quincy Saul and Daniel Lin at Artistree!
URL:https://altheasullycole.com/show/althea-sullycole-and-friends-artistree/
LOCATION:Artistree\, 2095 Pomfret Road\,  South Pomfret\, VT\, 05067\, United States
END:VEVENT
BEGIN:VEVENT
DTSTART;TZID=America/Toronto:20250227T180000
DTEND;TZID=America/Toronto:20250227T200000
DTSTAMP:20260423T121615
CREATED:20250604T232431Z
LAST-MODIFIED:20250604T235025Z
UID:17332-1740679200-1740686400@altheasullycole.com
SUMMARY:Solo @ Museum of Fine Arts\, Boston
DESCRIPTION:
URL:https://altheasullycole.com/show/solo-museum-of-fine-arts-boston/
LOCATION:Museum of Fine Arts\, 65 Huntington Ave\, Boston\, MA\, 02115\, United States
END:VEVENT
BEGIN:VEVENT
DTSTART;TZID=UTC:20250222T170000
DTEND;TZID=UTC:20250222T190000
DTSTAMP:20260423T121615
CREATED:20241217T213223Z
LAST-MODIFIED:20250131T205344Z
UID:1471-1740243600-1740250800@altheasullycole.com
SUMMARY:Solo Set @ Librairie Résonance\, Montreal
DESCRIPTION:Join Althea for an intimate\, free concert at Librairie Résonance in Montreal at 5 pm!\nThis will be Althea’s first solo performance in Montreal and will feature a variety of new techniques she is experimenting with as a solo performer.
URL:https://altheasullycole.com/show/solo-set-librairie-resonance-montreal-5-pm/
LOCATION:Librairie Résonance\, 40 Beaubien E.\, Montréal\, Québéc\, H2S 1P8\, Canada
END:VEVENT
BEGIN:VEVENT
DTSTART;TZID=UTC:20240713T130000
DTEND;TZID=UTC:20240713T150000
DTSTAMP:20260423T121615
CREATED:20240711T212008Z
LAST-MODIFIED:20250131T205344Z
UID:1445-1720875600-1720882800@altheasullycole.com
SUMMARY:Front Porch Music Series with Bill Cole\, Taylor Ho Bynum\, Ras Moshe\, Bill Lowe and Daniel Lin
DESCRIPTION:Join Althea for a FREE performance of improvised music in Vermont with a wonderful line up of musicians! \nBill Cole - double reeds\, digeridoo\nRas Moshe - saxophones\, flute\nTaylor Ho Bynum - trumpet\, cornet\nBill Lowe - tuba\nDaniel Lin - cello\nAlthea SullyCole - kora\n\n\nSaturday\, July 13 at 1:00pm\nThetford Hill Church - Thetford\, Vermont
URL:https://altheasullycole.com/show/front-porch-music-series-with-bill-cole-taylor-ho-bynum-ras-moshe-bill-lowe-and-daniel-lin/
LOCATION:Thetford Hill Church\, 2596 VT-113\, Thetford\, VT\, 05075\, United States
END:VEVENT
BEGIN:VEVENT
DTSTART;TZID=UTC:20240301T190000
DTEND;TZID=UTC:20240301T210000
DTSTAMP:20260423T121615
CREATED:20240111T055345Z
LAST-MODIFIED:20250131T205344Z
UID:1443-1709319600-1709326800@altheasullycole.com
SUMMARY:Mali Obomsawin and Guests @ CSUMB
DESCRIPTION:Join Althea SullyCole for a performance with bassist Mali Obomsawin and guests at California State University\, Monterey Bay.
URL:https://altheasullycole.com/show/mali-obomsawin-and-guests-csumb/
LOCATION:CSUMB Music Hall\, 3220 6th Avenue\, Seaside\, CA\, 93955\, United States
END:VEVENT
BEGIN:VEVENT
DTSTART;TZID=UTC:20240116T110000
DTEND;TZID=UTC:20240116T130000
DTSTAMP:20260423T121615
CREATED:20240111T055112Z
LAST-MODIFIED:20250131T205344Z
UID:1440-1705402800-1705410000@altheasullycole.com
SUMMARY:Our Beloved Community: A Journey Towards Black & Brown Solidarity on the Monterey Peninsula
DESCRIPTION:Join Althea SullyCole and other CSUMB faculty as they commemorate the National Day of Racial Healing with a special event titled “Our Beloved Community: A Journey Towards Black & Brown Solidarity on the Monterey Peninsula.” \n 
URL:https://altheasullycole.com/show/our-beloved-community-a-journey-towards-black-brown-solidarity-on-the-monterey-peninsula/
LOCATION:CSUMB Otter Student Uniono\, 3118 InterGarrison Road\, Seaside\, CA\, 93955\, United States
END:VEVENT
BEGIN:VEVENT
DTSTART;TZID=UTC:20230504T180000
DTEND;TZID=UTC:20230504T200000
DTSTAMP:20260423T121615
CREATED:20230220T220550Z
LAST-MODIFIED:20250131T205344Z
UID:1423-1683223200-1683230400@altheasullycole.com
SUMMARY:Althea SullyCole solo @ Boston MFA
DESCRIPTION:Join Althea SullyCole for a solo performance of traditional\, contemporary and original music for kora at the Boston MFA.
URL:https://altheasullycole.com/show/althea-sullycole-solo-boston-mfa/
LOCATION:Boston MFA\, 465 Huntington Ave\, Boston\, MA\, 02115\, United States
END:VEVENT
BEGIN:VEVENT
DTSTART;TZID=UTC:20230414T190000
DTEND;TZID=UTC:20230414T210000
DTSTAMP:20260423T121615
CREATED:20230220T220313Z
LAST-MODIFIED:20250131T205344Z
UID:1418-1681498800-1681506000@altheasullycole.com
SUMMARY:Althea SullyCole Trio @ CSUMB
DESCRIPTION:Join the Althea SullyCole Trio (Althea SullyCole\, kora; Ras Moshe\, sax and flute; and Alec Saelens\, guitar) for evening of traditional\, contemporary and original compositions for kora\, a 21-stringed West African harp\, at CSUMB! Concert is free and open to the public (parking permit necessary). Register here: https://forms.gle/dgJk1kTCvqS8YgFY6
URL:https://altheasullycole.com/show/althea-sullycole-trio-csumb/
LOCATION:CSUMB Music Hall\, 3220 6th Avenue\, Seaside\, CA\, 93955\, United States
END:VEVENT
BEGIN:VEVENT
DTSTART;TZID=UTC:20230310T113000
DTEND;TZID=UTC:20230310T130000
DTSTAMP:20260423T121615
CREATED:20221011T164331Z
LAST-MODIFIED:20250131T205344Z
UID:1411-1678447800-1678453200@altheasullycole.com
SUMMARY:String Stories with LaFrae Sci and the Groove Diplomacy Orchestra @ the Apollo Theatre\, NYC
DESCRIPTION:Althea SullyCole will be joining LaFrae Sci and the Groove Diplomacy Orchestra for “String Stories\,” part of the Apollo Theatre’s School Day Live series\, which brings in a new generation to the theatre while providing an excellent opportunity to learn about the arts\, history\, and culture.
URL:https://altheasullycole.com/show/string-stories-with-lafrae-sci-and-the-groove-diplomacy-orchestra-the-apollo-theatre-nyc/
LOCATION:The Apollo Theatre\, 253 W 125th St\, New York City\, NY\, 10027\, United States
END:VEVENT
BEGIN:VEVENT
DTSTART;TZID=UTC:20221011T130000
DTEND;TZID=UTC:20221011T150000
DTSTAMP:20260423T121615
CREATED:20221011T163955Z
LAST-MODIFIED:20250131T205344Z
UID:1407-1665493200-1665500400@altheasullycole.com
SUMMARY:Legends Alive @ Thetford Hill Church in Thetford\, VT
DESCRIPTION:Join Bill Cole as he celebrates his 85th birthday with his Untempered Ensemble!
URL:https://altheasullycole.com/show/legends-alive-thetford-hill-church-in-thetford-vt/
LOCATION:Thetford Hill Church\, 2596 VT-113\, Thetford\, VT\, 05075\, United States
END:VEVENT
BEGIN:VEVENT
DTSTART;TZID=UTC:20220619T160000
DTEND;TZID=UTC:20220619T190000
DTSTAMP:20260423T121615
CREATED:20220609T231033Z
LAST-MODIFIED:20250131T205344Z
UID:1402-1655654400-1655665200@altheasullycole.com
SUMMARY:CANCELLED: Althea SullyCole Trio @ the Jalopy Theatre's Juneteenth Celebration
DESCRIPTION:PLEASE NOTE THAT THIS DATE HAS BEEN CANCELLED – New dates coming soon! \nJoin the Althea SullyCole Trio (Ras Moshe\, sax and flute; Alec Saelens\, guitar; and Althea SullyCole\, kora) for a Juneteenth celebration organized by Black Americana performer Queen Esther at the Jalopy Theatre from 4 – 7 pm! (Althea SullyCole Trio goes on at 5 pm) \n \nGet your tickets here: https://www.viewcy.com/e/a_juneteenth_celebrat_1
URL:https://altheasullycole.com/show/althea-sullycole-trio-the-jalopy-theatres-juneteenth-celebration/
LOCATION:Jalopy Theatre\, 315 Columbia St.\, Brooklyn\, NY\, 11231\, United States
END:VEVENT
BEGIN:VEVENT
DTSTART;TZID=UTC:20220526T111500
DTEND;TZID=UTC:20220526T120000
DTSTAMP:20260423T121615
CREATED:20220505T185946Z
LAST-MODIFIED:20250131T205344Z
UID:1398-1653563700-1653566400@altheasullycole.com
SUMMARY:Althea SullyCole Trio @ the Metropolitan Museum of Art
DESCRIPTION:The Althea SullyCole Trio–featuring Ras Moshe on sax and flute; Alec Saelens on guitar; and Althea SullyCole on kora–is thrilled to announce their first performance of 2022! Join us for a concert on Thursday\, May 26th at 11:15 AM in gallery 459 at the Metropolitan Museum of Art (FREE with admission)!
URL:https://altheasullycole.com/show/althea-sullycole-trio-the-metropolitan-museum-of-art/
LOCATION:Metropolitan Museum of Art\, Gallery 459\, 1000 5th avenue\, New York\, NY\, 10028\, United States
END:VEVENT
BEGIN:VEVENT
DTSTART;TZID=UTC:20220304T100000
DTEND;TZID=UTC:20220304T170000
DTSTAMP:20260423T121615
CREATED:20220111T221002Z
LAST-MODIFIED:20250131T205344Z
UID:1392-1646388000-1646413200@altheasullycole.com
SUMMARY:Gendering Africa: Musical Perspectives On-Line Symposium
DESCRIPTION:Gendering Africa: Musical Perspectives\, an on-line Symposium\, is set to take place March 4th\, 2022 at 10 AM EST. The symposium\, co-organized by Althea SullyCole\, Dr. Ruth Opara\, Shirley Chikukwa and Columbia’s Center for Ethnomusicology\, enters the perspectives of African and African-descended women ethnomusicologists and performers in the on-going conversation concerning gender and music.\n\nMore information about the symposium can be found here: http://ethnocenter.org/files/Gendering%20Africa%20Symposium%20Program.pdf\n\nRegister here: https://columbiauniversity.zoom.us/meeting/register/tJYudemrrzMrHNKmmqMxgP-TA_J0yA-XEh9g
URL:https://altheasullycole.com/show/gendering-africa-musical-perspectives-on-line-symposium/
LOCATION:Columbia Univerrsity’s Center for Ethnomusicology
END:VEVENT
BEGIN:VEVENT
DTSTART;TZID=UTC:20211210T190000
DTEND;TZID=UTC:20211210T203000
DTSTAMP:20260423T121615
CREATED:20211115T215654Z
LAST-MODIFIED:20250131T205345Z
UID:1384-1639162800-1639168200@altheasullycole.com
SUMMARY:Althea SullyCole Trio @ Greater Calvary Baptist Church
DESCRIPTION:The Althea SullyCole Trio\, featuring Althea SullyCole on kora\, Ras Moshe on sax and flute and Alec Saelens on guitar\, will perform at Greater Calvary Baptist Church in Harlem on December 10th at 7 pm! Join us! \n \nBook your tickets here: https://harlemjazzboxx.com/event/harlem-jazz-series/
URL:https://altheasullycole.com/show/althea-sullycole-trio-greater-calvary-baptist-church/
LOCATION:Greater Calvary Baptist Church\, 55 W 124th St\, New York\, NY\, 10027\, United States
END:VEVENT
BEGIN:VEVENT
DTSTART;TZID=UTC:20211104T180000
DTEND;TZID=UTC:20211104T190000
DTSTAMP:20260423T121615
CREATED:20210916T215042Z
LAST-MODIFIED:20250131T205345Z
UID:1363-1636048800-1636052400@altheasullycole.com
SUMMARY:Althea SullyCole Trio @ St. Paul's Chapel
DESCRIPTION:The Althea SullyCole Trio\, featuring Althea on kora\, Ras Moshe on sax and flute and Alec Saelens on guitar\, will perform at St. Paul’s Chapel in New York City on November 4th at 6 pm! Join us! \n \nAs of September 30th\, the live audience will be restricted to Columbia ID holders\, but everyone can watch live on YouTube: https://www.youtube.com/watch?v=P1uBbcv8b28
URL:https://altheasullycole.com/show/althea-sullycole-trio-st-pauls-chapel/
LOCATION:St. Paul’s Chapel\, 1160 Amsterdam Avenue\, New York City\, NY\, 10025\, United States
END:VEVENT
BEGIN:VEVENT
DTSTART;TZID=UTC:20211010T130000
DTEND;TZID=UTC:20211010T150000
DTSTAMP:20260423T121615
CREATED:20210930T183256Z
LAST-MODIFIED:20250131T205345Z
UID:1371-1633870800-1633878000@altheasullycole.com
SUMMARY:The Untempered Ensemble @ Faulkner Recital Hall\, the Hopkins Center\, Dartmouth College
DESCRIPTION:Althea is very excited to announce that she will be joining her father’s Untempered Ensemble on October 10th in a performance of his new work “Margaret & Katie”  –  at Faulkner Recital Hall at the Hopkins Center!\n\nTHE AMAZING LINEUP WILL FEATURE:\n\nJoseph Daley – tuba\, baritone horn\nWarren Smith – drums\nRas Moshe – saxophones\, flute\nTaylor Ho Bynum – trumpet\, cornet\, trombone\nAlthea SullyCole – kora\nMali Obomsawin – bass\nBill Cole – didgeridoo\, double reeds\n\n\nDetails:\nFaulkner Recital Hall at the Hopkins Center\nSunday\, October 10 at 1:00 pm\n \nNO ADMISSION CHARGE\n \nRSVP required\nPlease reply to sullys914@gmail.com\n\n*** Please note:  Dartmouth/Hopkins Center is under strict Covid-protocols\, and as a result we ask that you RSVP by October 4 (unless you have a Dartmouth ID and are cleared to be on campus).  There won’t be general admission or walk-up\, only invited guests.  Proof of vaccination and masks will be required – we’ll share more information about those requirements\, and which building entrance to use – with everyone who RSVPs “yes” to sullys914@gmail.com.  Thank you! ***
URL:https://altheasullycole.com/show/the-untempered-ensemble-faulkner-recital-hall-the-hopkins-center-dartmouth-college-2/
LOCATION:Faulkner Recital Hall at the Hopkins Center\, 2 W. Wheelock St.\, Hanover\, NH\, 03755\, United States
END:VEVENT
BEGIN:VEVENT
DTSTART;TZID=UTC:20210911T190000
DTEND;TZID=UTC:20210911T210000
DTSTAMP:20260423T121615
CREATED:20210816T194026Z
LAST-MODIFIED:20250131T205345Z
UID:1348-1631386800-1631394000@altheasullycole.com
SUMMARY:Althea SullyCole Trio @ Seven Stars
DESCRIPTION:Althea SullyCole is thrilled to announce her trio’s first performance in Vermont since 2019! The Althea SullyCole Trio\, featuring Althea on kora\, Ras Moshe on sax and flute and Alec Saelens on guitar\, will perform two sets at Seven Stars Arts Center in Sharon\, VT\, on September 11th starting at 7 pm! Join us!
URL:https://altheasullycole.com/show/althea-sullycole-trio-seven-stars/
LOCATION:Seven Stars Arts Center\, 5126 VT-14\, Sharon\, VT\, 05065\, United States
END:VEVENT
BEGIN:VEVENT
DTSTART;TZID=UTC:20210829T130000
DTEND;TZID=UTC:20210829T140000
DTSTAMP:20260423T121615
CREATED:20210810T213429Z
LAST-MODIFIED:20250131T205345Z
UID:1345-1630242000-1630245600@altheasullycole.com
SUMMARY:Porch Front Jazz Series
DESCRIPTION:The next Front Porch Music Series event will be on Sunday\, August 29 at 1:00 pm! Featuring:\nJoseph Daley – tuba\, baritone horn\nRas Moshe – saxophones\, flute\nAlthea SullyCole – kora\nBill Cole – didgeridoo\, double reeds\n\n\n\n*Bring a chair\n*Parking – pull in spare driveway east of house (next to generator/gas tank) – park on grass
URL:https://altheasullycole.com/show/porch-front-jazz-series-2/
LOCATION:SullyCole Residence\, 1590 Tucker Hill Road\, Thetford Ct\, VT\, 05075\, United States
END:VEVENT
BEGIN:VEVENT
DTSTART;TZID=UTC:20210729T180000
DTEND;TZID=UTC:20210729T190000
DTSTAMP:20260423T121615
CREATED:20210607T221532Z
LAST-MODIFIED:20250131T205345Z
UID:1337-1627581600-1627585200@altheasullycole.com
SUMMARY:Althea SullyCole Trio @ St. Ann & the Holy Trinity
DESCRIPTION:Althea is thrilled to announce her first gig in NYC of 2021. This concert is free and open to the public; attendees are invited to contribute to St. Ann & the Holy Trinity’s pop-up pantry. Join us! Featuring: \nAlthea SullyCole\, kora\nRas Moshe\, sax and flute\nAlec Saelens\, guitar \n \nRas Moshe (left) and Althea SullyCole (right)
URL:https://altheasullycole.com/show/ras-moshe-and-althea-sullycole-st-ann-the-holy-trinity/
LOCATION:St. Ann & the Holy Trinity Episcopal Church\, 157 MONTAGUE STREET\, Brooklyn\, NY\, 11201-3587\, United States
END:VEVENT
BEGIN:VEVENT
DTSTART;TZID=UTC:20210725T130000
DTEND;TZID=UTC:20210725T150000
DTSTAMP:20260423T121615
CREATED:20210712T202225Z
LAST-MODIFIED:20250131T205345Z
UID:1342-1627218000-1627225200@altheasullycole.com
SUMMARY:Porch Front Jazz Series
DESCRIPTION:The next Front Porch Music Series event will feature a five star lineup – save the date!!!\nSunday\, July 25 at 1:00pm\n\n\n\nJoseph Daley – tuba\, baritone horn\nRas Moshe – saxophones\, flute\nTaylor Ho Bynum – trumpet\, cornet\, trombone\nAlthea SullyCole – kora\nBill Cole – didgeridoo\, double reeds\n\n1590 Tucker Hill Road\, Thetford Center\n*Bring a chair\n*Parking – pull in spare driveway east of house (next to generator/gas tank) – park on grass
URL:https://altheasullycole.com/show/porch-front-jazz-series/
LOCATION:Porch Front Series\, 1590 Tucker Hill Rd\, Thetford Center\, Vermont\, 05075-4439\, Australia
END:VEVENT
END:VCALENDAR